BEGIN:VCALENDAR
VERSION:2.0
PRODID:-//TYPO3/NONSGML News system (news)//EN
BEGIN:VEVENT
UID:news-136186@www.uni-graz.at
DTSTAMP:20260424T070134Z
DTSTART:20260618T120000Z
DTEND:20260618T150000Z
SUMMARY:Grazer Forum Inklusion

DESCRIPTION:Autismus-Spektrum-Störung. Handlungsmöglichkeiten im Umgang mit herausfordernden Situationen
END:VEVENT
END:VCALENDAR
