BEGIN:VCALENDAR
VERSION:2.0
PRODID:-//TYPO3/NONSGML News system (news)//EN
BEGIN:VEVENT
UID:news-134514@www.uni-graz.at
DTSTAMP:20260305T124152Z
DTSTART:20260518T150000Z
DTEND:20260518T170000Z
SUMMARY:From Zagreb to Palestine

DESCRIPTION:Yugoslav Zionist Aid Networks for European Jews, 1933-1941
END:VEVENT
END:VCALENDAR
