BEGIN:VCALENDAR
VERSION:2.0
PRODID:-//TYPO3/NONSGML News system (news)//EN
BEGIN:VEVENT
UID:news-136077@www.uni-graz.at
DTSTAMP:20260422T121232Z
DTSTART:20261110T110000Z
DTEND:20261110T150000Z
SUMMARY:esib 2026 - European Summit of Industrial Biotechnology

DESCRIPTION:Von 10.11. bis 12.11., von 12:00 bis 16:00 Uhr
END:VEVENT
END:VCALENDAR
