BEGIN:VCALENDAR
VERSION:2.0
PRODID:-//TYPO3/NONSGML News system (news)//EN
BEGIN:VEVENT
UID:news-133679@www.uni-graz.at
DTSTAMP:20260205T142524Z
DTSTART:20260424T080000Z
DTEND:20260424T090000Z
SUMMARY:Erfolgreich in die Berufswelt starten: praktische Tipps und Tricks für die Jobsuche
END:VEVENT
END:VCALENDAR
