BEGIN:VCALENDAR
VERSION:2.0
PRODID:-//TYPO3/NONSGML News system (news)//EN
BEGIN:VEVENT
UID:news-133685@www.uni-graz.at
DTSTAMP:20260205T143802Z
DTSTART:20260508T080000Z
DTEND:20260508T090000Z
SUMMARY:Effektive Strategien zur Erstellung überzeugender Bewerbungsunterlagen
END:VEVENT
END:VCALENDAR
