BEGIN:VCALENDAR
VERSION:2.0
PRODID:-//TYPO3/NONSGML News system (news)//EN
BEGIN:VEVENT
UID:news-133682@www.uni-graz.at
DTSTAMP:20260205T143501Z
DTSTART:20260428T063000Z
DTEND:20260428T080000Z
SUMMARY:Dein Wert am Arbeitsmarkt

DESCRIPTION:Gehaltsverhandlung und Finanz-Know-how für Studierende und Jungabsolvent:innen
END:VEVENT
END:VCALENDAR
