BEGIN:VCALENDAR
VERSION:2.0
PRODID:-//TYPO3/NONSGML News system (news)//EN
BEGIN:VEVENT
UID:news-135974@www.uni-graz.at
DTSTAMP:20260420T113523Z
DTSTART:20260526T170000Z
DTEND:20260526T190000Z
SUMMARY:Christoph Bartmann: Attacke von rechts. Der neue Kampf um die Kultur

DESCRIPTION:Im Gespräch mit: Thomas Köck
END:VEVENT
END:VCALENDAR
