BEGIN:VCALENDAR
VERSION:2.0
PRODID:-//TYPO3/NONSGML News system (news)//EN
BEGIN:VEVENT
UID:news-131572@www.uni-graz.at
DTSTAMP:20251121T114949Z
DTSTART:20260602T070000Z
DTEND:20260602T093000Z
SUMMARY:Changemaker 

DESCRIPTION:Wenn Kinder zu Entrepreneur:innen werden: Der spielerische Weg unternehmerische Kompetenzen zu fördern
END:VEVENT
END:VCALENDAR
