BEGIN:VCALENDAR
VERSION:2.0
PRODID:-//TYPO3/NONSGML News system (news)//EN
BEGIN:VEVENT
UID:news-136106@www.uni-graz.at
DTSTAMP:20260423T071158Z
DTSTART:20260506T063000Z
DTEND:20260506T080000Z
SUMMARY:BioTechMed-Graz Science Breakfast

DESCRIPTION:Probabilistic Machine Learning
END:VEVENT
END:VCALENDAR
