BEGIN:VCALENDAR
VERSION:2.0
PRODID:-//TYPO3/NONSGML News system (news)//EN
BEGIN:VEVENT
UID:news-132309@www.uni-graz.at
DTSTAMP:20251211T103913Z
DTSTART:20260508T120000Z
DTEND:20260508T161500Z
SUMMARY:Austropop und Österreichisches Deutsch

DESCRIPTION:VITA ACTIVA Workshop
END:VEVENT
END:VCALENDAR
