BEGIN:VCALENDAR
VERSION:2.0
PRODID:-//TYPO3/NONSGML News system (news)//EN
BEGIN:VEVENT
UID:news-133688@www.uni-graz.at
DTSTAMP:20260205T144214Z
DTSTART:20260519T063000Z
DTEND:20260519T080000Z
SUMMARY:Assessment Center überzeugend meistern: praktische Beispiele
END:VEVENT
END:VCALENDAR
