BEGIN:VCALENDAR
VERSION:2.0
PRODID:-//TYPO3/NONSGML News system (news)//EN
BEGIN:VEVENT
UID:news-136192@www.uni-graz.at
DTSTAMP:20260424T072950Z
DTSTART:20260608T065000Z
DTEND:20260608T165000Z
SUMMARY:AGENDA EUROPE 2035 ++ TOP-Konferenz für Digitalisierung und IKT im virtuellen Rathaus

DESCRIPTION:Österreichs größte virtuelle Konferenz für Digitalisierung und IKT im privaten und öffentlichen Sektor
END:VEVENT
END:VCALENDAR
