BEGIN:VCALENDAR
VERSION:2.0
PRODID:-//TYPO3/NONSGML News system (news)//EN
BEGIN:VEVENT
UID:news-135942@www.uni-graz.at
DTSTAMP:20260420T130940Z
DTSTART:20260423T131500Z
DTEND:20260423T144500Z
SUMMARY:Adrian Grima: Negotiating the Mediterranean Imaginary. 
END:VEVENT
END:VCALENDAR
