BEGIN:VCALENDAR
VERSION:2.0
PRODID:-//TYPO3/NONSGML News system (news)//EN
BEGIN:VEVENT
UID:news-136093@www.uni-graz.at
DTSTAMP:20260422T135841Z
DTSTART:20260514T060000Z
DTEND:20260514T123000Z
SUMMARY:Von Bohne, Erdnuss &amp; Mimose - Fabelhafte Fabaceae!

DESCRIPTION:Ausstellung im Freiland &amp; den Gewächshäusern
Von 14.05.2026 bis 31.03.2027, immer von 08:00 bis 14:30 Uhr
END:VEVENT
END:VCALENDAR
