BEGIN:VCALENDAR
VERSION:2.0
PRODID:-//TYPO3/NONSGML News system (news)//EN
BEGIN:VEVENT
UID:news-136069@www.uni-graz.at
DTSTAMP:20260422T115110Z
DTSTART:20260528T170000Z
DTEND:20260528T215900Z
SUMMARY:TROUBLED WATERS

DESCRIPTION:Exhibition TROUBLED WATERS: Forgotten and Suppressed River Stories.
END:VEVENT
END:VCALENDAR
