BEGIN:VCALENDAR
VERSION:2.0
PRODID:-//TYPO3/NONSGML News system (news)//EN
BEGIN:VEVENT
UID:news-135991@www.uni-graz.at
DTSTAMP:20260420T130210Z
DTSTART:20260610T100000Z
DTEND:20260610T130100Z
SUMMARY:The Conception of Civilizational State in Contemporary IR

DESCRIPTION:Discussion by Mikhail Antonov (Higher School of Economics, Russia) and Walter Lee (Hong Kong Metropolitan University, PRC)

END:VEVENT
END:VCALENDAR
