BEGIN:VCALENDAR
VERSION:2.0
PRODID:-//TYPO3/NONSGML News system (news)//EN
BEGIN:VEVENT
UID:news-136176@www.uni-graz.at
DTSTAMP:20260424T064634Z
DTSTART:20260618T120000Z
DTEND:20260618T160000Z
SUMMARY:Symposium Sozialpädagogik: Übergänge als Lebensphasen

DESCRIPTION:Der Fachbereich Sozialpädagogik veranstaltet am 18. Juni 2026 von 14 bis 18 Uhr wieder das jährliche Symposium Sozialpädagogik. Der diesjährige Titel der Veranstaltung lautet: Übergänge als Lebensphasen.
END:VEVENT
END:VCALENDAR
