BEGIN:VCALENDAR
VERSION:2.0
PRODID:-//TYPO3/NONSGML News system (news)//EN
BEGIN:VEVENT
UID:news-135944@www.uni-graz.at
DTSTAMP:20260420T093402Z
DTSTART:20260424T193000Z
DTEND:20260424T203000Z
SUMMARY:ScienceTalk; Kommunikation: Was kann ich heute noch glauben?

DESCRIPTION:Beitrag zur langen Nacht der Forschung (LNF)
END:VEVENT
END:VCALENDAR
