BEGIN:VCALENDAR
VERSION:2.0
PRODID:-//TYPO3/NONSGML News system (news)//EN
BEGIN:VEVENT
UID:news-133567@www.uni-graz.at
DTSTAMP:20260420T071831Z
DTSTART:20260506T143000Z
DTEND:20260506T160000Z
SUMMARY:Ringvorlesung: So ein Theater!

DESCRIPTION:Johannes Gießauf
Steirische Sportspektakel
END:VEVENT
END:VCALENDAR
