BEGIN:VCALENDAR
VERSION:2.0
PRODID:-//TYPO3/NONSGML News system (news)//EN
BEGIN:VEVENT
UID:news-136136@www.uni-graz.at
DTSTAMP:20260423T134504Z
DTSTART:20260505T080000Z
DTEND:20260505T093000Z
SUMMARY:Präsentation des IWalks „Jüdisches Leben in Graz vor 1938“

DESCRIPTION:anlässlich des Gedenktages gegen Gewalt und Rassismus im
Gedenken an die Opfer des Nationalsozialismus
END:VEVENT
END:VCALENDAR
