BEGIN:VCALENDAR
VERSION:2.0
PRODID:-//TYPO3/NONSGML News system (news)//EN
BEGIN:VEVENT
UID:news-136057@www.uni-graz.at
DTSTAMP:20260422T121538Z
DTSTART:20260512T080000Z
DTEND:20260512T093000Z
SUMMARY:Markt, Staat, Geopolitik: Geschichte der OMV im Kontext der globalen Öl- und Gasindustrie
END:VEVENT
END:VCALENDAR
