BEGIN:VCALENDAR
VERSION:2.0
PRODID:-//TYPO3/NONSGML News system (news)//EN
BEGIN:VEVENT
UID:news-135977@www.uni-graz.at
DTSTAMP:20260420T114432Z
DTSTART:20260527T100000Z
DTEND:20260527T110000Z
SUMMARY:KI in der HL: Perspektiven klassismuskritischer und habitussensibler Lehrgestaltung

DESCRIPTION:High Noon - Didaktik zu Mittag
END:VEVENT
END:VCALENDAR
