BEGIN:VCALENDAR
VERSION:2.0
PRODID:-//TYPO3/NONSGML News system (news)//EN
BEGIN:VEVENT
UID:news-136130@www.uni-graz.at
DTSTAMP:20260423T130048Z
DTSTART:20260519T113000Z
DTEND:20260519T140000Z
SUMMARY:“Con il signor prencipe per il mio scolare&quot;

DESCRIPTION:Die internationale Konferenz untersucht die vielfältigen Dynamiken, die den Violinunterricht und die Violinpraxis im Zusammenhang mit Musiktheorie und Ästhetik während des Zeitalters der Aufklärung prägten.
Von 19.05. bis 21.05., von 13:30 bis 16:00 Uhr
END:VEVENT
END:VCALENDAR
