BEGIN:VCALENDAR
VERSION:2.0
PRODID:-//TYPO3/NONSGML News system (news)//EN
BEGIN:VEVENT
UID:news-131823@www.uni-graz.at
DTSTAMP:20251126T134402Z
DTSTART:20260602T070000Z
DTEND:20260602T090000Z
SUMMARY:Habilitation Explained 2026

DESCRIPTION:Online Info Talk for All Postdoctoral Researchers
END:VEVENT
END:VCALENDAR
