BEGIN:VCALENDAR
VERSION:2.0
PRODID:-//TYPO3/NONSGML News system (news)//EN
BEGIN:VEVENT
UID:news-135950@www.uni-graz.at
DTSTAMP:20260420T115236Z
DTSTART:20260430T170000Z
DTEND:20260430T190000Z
SUMMARY:Germanistischer Debattierclub

DESCRIPTION:Literatur on stage. Das Literaturhaus Graz stellt sich vor


END:VEVENT
END:VCALENDAR
