BEGIN:VCALENDAR
VERSION:2.0
PRODID:-//TYPO3/NONSGML News system (news)//EN
BEGIN:VEVENT
UID:news-133569@www.uni-graz.at
DTSTAMP:20260203T141728Z
DTSTART:20260519T090000Z
DTEND:20260519T094500Z
SUMMARY:Führung: Hauptbibliothek
END:VEVENT
END:VCALENDAR
