BEGIN:VCALENDAR
VERSION:2.0
PRODID:-//TYPO3/NONSGML News system (news)//EN
BEGIN:VEVENT
UID:news-136080@www.uni-graz.at
DTSTAMP:20260422T122216Z
DTSTART:20260528T170000Z
DTEND:20260528T190000Z
SUMMARY:FLORES SECRETAS 

DESCRIPTION:Musik im Botanischen Garten mit dem Yanet Infanzon Trio CARTAS DE LA REINA
END:VEVENT
END:VCALENDAR
