BEGIN:VCALENDAR
VERSION:2.0
PRODID:-//TYPO3/NONSGML News system (news)//EN
BEGIN:VEVENT
UID:news-135947@www.uni-graz.at
DTSTAMP:20260420T115422Z
DTSTART:20260428T160000Z
DTEND:20260428T190000Z
SUMMARY:Eröffnungsvortrag: NS-Aktivistin im Verborgenen. Fokus auf einen Nachlass

DESCRIPTION:Datum: Dienstag, 28. April 2026, 18 Uhr
Ort: Foyer (Mezzanin) des Haus der Geschichte Österreich, Neue Hofburg, Heldenplatz, 1010 Wien
END:VEVENT
END:VCALENDAR
