BEGIN:VCALENDAR
VERSION:2.0
PRODID:-//TYPO3/NONSGML News system (news)//EN
BEGIN:VEVENT
UID:news-135839@www.uni-graz.at
DTSTAMP:20260416T102205Z
DTSTART:20260430T140000Z
DTEND:20260430T160000Z
SUMMARY:Diaspora

DESCRIPTION:Gespräch mit Mitgliedern religiöser Gemeinden und Gemeinschaften mit südosteuropäischen Wurzeln in Graz
END:VEVENT
END:VCALENDAR
