BEGIN:VCALENDAR
VERSION:2.0
PRODID:-//TYPO3/NONSGML News system (news)//EN
BEGIN:VEVENT
UID:news-136129@www.uni-graz.at
DTSTAMP:20260423T113002Z
DTSTART:20260506T150000Z
DTEND:20260506T163000Z
SUMMARY:Descriptive and Evaluative Meaning in Spanish Diminutive Prefixes 

DESCRIPTION:Linguistisches Kolloquium: MA Yingfei Lu (Universitat Pompeu Fabra), Dr. Zi Huang (Institut für Sprachwissenschaft) &amp; Prof. Dr. Fabio Montermini (CLLE, CNRS &amp; Université de Toulouse Jean Jaurès): Descriptive and Evaluative Meaning in Spanish Diminutive Prefixes: A Case Study of micro- and mini-
END:VEVENT
END:VCALENDAR
