BEGIN:VCALENDAR
VERSION:2.0
PRODID:-//TYPO3/NONSGML News system (news)//EN
BEGIN:VEVENT
UID:news-124401@www.uni-graz.at
DTSTAMP:20260304T151113Z
DTSTART:20260509T070000Z
DTEND:20260509T110000Z
SUMMARY:DENGELN

DESCRIPTION:Sensen selber schärfen! FREILAND LABOR Workshop
END:VEVENT
END:VCALENDAR
