BEGIN:VCALENDAR
VERSION:2.0
PRODID:-//TYPO3/NONSGML News system (news)//EN
BEGIN:VEVENT
UID:news-123329@www.uni-graz.at
DTSTAMP:20260410T142331Z
DTSTART:20260516T090000Z
DTEND:20260516T110000Z
SUMMARY:NEUER TERMIN: Das kleine 1x1 der Pflanzenvermehrung 

DESCRIPTION:Freiland Labor Workshop für alle Hobby-Gärtner:innen!
END:VEVENT
END:VCALENDAR
