BEGIN:VCALENDAR
VERSION:2.0
PRODID:-//TYPO3/NONSGML News system (news)//EN
BEGIN:VEVENT
UID:news-136212@www.uni-graz.at
DTSTAMP:20260424T112525Z
DTSTART:20260510T122100Z
DTEND:20260510T142100Z
SUMMARY:Currents of Change Exhibition Launch

DESCRIPTION:A community photography exhibition by twelve Liverpool residents exploring life on the city&#039;s waterfront. Free entry, live performances.
END:VEVENT
END:VCALENDAR
