BEGIN:VCALENDAR
VERSION:2.0
PRODID:-//TYPO3/NONSGML News system (news)//EN
BEGIN:VEVENT
UID:news-131917@www.uni-graz.at
DTSTAMP:20251127T143907Z
DTSTART:20260924T100000Z
DTEND:20260924T150000Z
SUMMARY:2026 Writing Retreat: Community, joy, and productivity in the countryside

DESCRIPTION:Join the 2026 RCC Writing Retreat (Sep 24-26, Deutschlandsberg)
24.09.-26.09., from 12:00 to 17:00h
END:VEVENT
END:VCALENDAR
