BEGIN:VCALENDAR
VERSION:2.0
PRODID:-//TYPO3/NONSGML News system (news)//EN
BEGIN:VEVENT
UID:news-136128@www.uni-graz.at
DTSTAMP:20260423T112821Z
DTSTART:20260428T110000Z
DTEND:20260428T120000Z
SUMMARY:BB: The Age of the Kingpin: Power in the New Transactional World Order

DESCRIPTION:BB: Donika Emini - The Age of the Kingpin: Power in the New Transactional World Order
END:VEVENT
END:VCALENDAR
