BEGIN:VCALENDAR
VERSION:2.0
PRODID:-//TYPO3/NONSGML News system (news)//EN
BEGIN:VEVENT
UID:news-135963@www.uni-graz.at
DTSTAMP:20260420T105539Z
DTSTART:20260509T073000Z
DTEND:20260509T180000Z
SUMMARY:3. HPS Cup 

DESCRIPTION:Akademische Meisterschaften
END:VEVENT
END:VCALENDAR
